BEGIN:VCALENDAR
VERSION:2.0
PRODID:-//eventon.com NONSGML v1.0//EN
CALSCALE:GREGORIAN
METHOD:PUBLISH
BEGIN:VEVENT
UID:69eb73f98f1b4
DTSTAMP:20260424T134529Z
DTSTART:20240226
DTEND:20240227
LOCATION:
SUMMARY:Artist Trust SOLA Awards
DESCRIPTION:Artist Trust SOLA Awards\nhttps://webelongseattle.com/events/ar
 tist-trust-sola-awards/
URL:https://webelongseattle.com/events/artist-trust-sola-awards/
END:VEVENT
END:VCALENDAR